BEGIN:VCALENDAR
VERSION:2.0
PRODID:-//A.D.E.A - ECPv6.6.3//NONSGML v1.0//EN
CALSCALE:GREGORIAN
METHOD:PUBLISH
X-ORIGINAL-URL:https://adea-actipole.fr
X-WR-CALDESC:évènements pour A.D.E.A
REFRESH-INTERVAL;VALUE=DURATION:PT1H
X-Robots-Tag:noindex
X-PUBLISHED-TTL:PT1H
BEGIN:VTIMEZONE
TZID:Europe/Paris
BEGIN:DAYLIGHT
TZOFFSETFROM:+0100
TZOFFSETTO:+0200
TZNAME:CEST
DTSTART:20190331T010000
END:DAYLIGHT
BEGIN:STANDARD
TZOFFSETFROM:+0200
TZOFFSETTO:+0100
TZNAME:CET
DTSTART:20191027T010000
END:STANDARD
END:VTIMEZONE
BEGIN:VEVENT
DTSTART;TZID=Europe/Paris:20191121T110000
DTEND;TZID=Europe/Paris:20191121T130000
DTSTAMP:20260424T215805
CREATED:20191113T160817Z
LAST-MODIFIED:20200128T165156Z
UID:703-1574334000-1574341200@adea-actipole.fr
SUMMARY:Déjeuner Beaujolais Nouveau jeudi 21 novembre 2019
DESCRIPTION:L’ ADEA vous invite\, \nDEJEUNER ADEA \nBEAUJOLAIS NOUVEAU 2019 \nL’ADEA vous invite à un déjeuner accompagné d’un verre de vin de Beaujolais nouveau 2019\, \nle jeudi 21 novembre 2019 à La Salle à Manger\, 296 route des Béalières à Veurey Voroize.
URL:https://adea-actipole.fr/event/dejeuner-beaujolais-nouveau-jeudi-21-novembre-2019/
LOCATION:La Salle à Manger\, 296 route des Béalières\, Veurey Voroize\, 38360\, France
ATTACH;FMTTYPE=image/jpeg:https://adea-actipole.fr/wp-content/uploads/2019/11/Bar_à_vin_005-e1573657332340.jpg
ORGANIZER;CN="R%C3%A9mi Petermann":MAILTO:remi.petermann@lametro.fr
END:VEVENT
END:VCALENDAR